BEGIN:VCALENDAR
VERSION:2.0
PRODID:-//Wikimedia Indonesia - ECPv6.15.20//NONSGML v1.0//EN
CALSCALE:GREGORIAN
METHOD:PUBLISH
X-WR-CALNAME:Wikimedia Indonesia
X-ORIGINAL-URL:https://wikimedia.or.id
X-WR-CALDESC:Events for Wikimedia Indonesia
REFRESH-INTERVAL;VALUE=DURATION:PT1H
X-Robots-Tag:noindex
X-PUBLISHED-TTL:PT1H
BEGIN:VTIMEZONE
TZID:Asia/Jakarta
BEGIN:STANDARD
TZOFFSETFROM:+0700
TZOFFSETTO:+0700
TZNAME:WIB
DTSTART:20250101T000000
END:STANDARD
END:VTIMEZONE
BEGIN:VEVENT
DTSTART;TZID=Asia/Jakarta:20260426T130000
DTEND;TZID=Asia/Jakarta:20260426T150000
DTSTAMP:20260423T162705
CREATED:20260407T064146Z
LAST-MODIFIED:20260407T064146Z
UID:9548-1777208400-1777215600@wikimedia.or.id
SUMMARY:WikiGap Wikiquote
DESCRIPTION:WikiGap merupakan kegiatan pelatihan penyuntingan dasar di proyek Wikimedia untuk meningkatkan konten tentang perempuan. WikiGap Wikiquote akan berisi aktivitas penambahan kutipan-kutipan perempuan yang berdampak dalam pengembangan ilmu pengetahuan. Kegiatan ini diselenggarakan bersama Komunitas Wikimedia Perempuan secara daring melalui Zoom dan termasuk rangkaian acara Bulan Wiki Perempuan 2026. \nInformasi tentang Bulan Wiki Perempuan 2026:\nhttps://meta.wikimedia.org/wiki/Wikimedia_Indonesia/Bulan_Wiki_Perempuan_2026
URL:https://wikimedia.or.id/acara/wikigap-wikiquote/
LOCATION:Daring
END:VEVENT
BEGIN:VEVENT
DTSTART;TZID=Asia/Jakarta:20260502T000000
DTEND;TZID=Asia/Jakarta:20260530T235959
DTSTAMP:20260423T162705
CREATED:20260421T072351Z
LAST-MODIFIED:20260421T072351Z
UID:9621-1777680000-1780185599@wikimedia.or.id
SUMMARY:Kursus WikiLatih Daring XXIX
DESCRIPTION:Kursus daring penyuntingan tingkat dasar di Wikipedia bahasa Indonesia selama 4 pekan melalui LMS (belajar.wikimedia.or.id). Tujuan utama program ini adalah memperkenalkan cara kerja Wikipedia dan memberikan bekal teknis penyuntingan artikel di Wikipedia. Kursus ini merupakan program pelatihan bersertifikat yang dikeluarkan oleh Wikimedia Indonesia dan dapat diikuti siapa saja secara gratis!
URL:https://wikimedia.or.id/acara/kursus-wikilatih-daring-xxix/
LOCATION:Daring
END:VEVENT
END:VCALENDAR